Workbook

Sheet Proposed Budget
A1: Table 5.6: Proposed Budget for New Program & Resource Template - Undergraduate
A2: Instructions: Inputs to be made in the blue highlighted cells
A4: Faculty:
A5: New Program Name :
A6: Tuition rate Domestic (per credit):
A7: Tuition rate International - year 1 (per credit):
A8: Tuition rate International - years 2-5 (per credit): | C8: =B7 -> 0 | D8: =C7 -> 0 | E8: =D7 -> 0 | F8: =E7 -> 0
A9: Co-op Program:
A10: Co-op, if yes % of students in program:
B11: Year 1 Forecast | C11: Year 2 Forecast | D11: Year 3 Forecast | E11: Year 4 Forecast | F11: Year 5 Forecast | G11: Comments (if needed)
A12: Insert Academic Year ==>
A13: ENROLLMENT Domestic (Headcount)
A14: Intake
A15: Returning Students Year 2
A16: Returning Students Year 3
A17: Returning Students Year 4
A18: Returning Students Year 5
A19: Total Enrollment | B19: =SUM(B14:B18) -> 0 | C19: =SUM(,C14:C18) -> 0 | D19: =SUM(,D14:D18) -> 0 | E19: =SUM(,E14:E18) -> 0 | F19: =SUM(,F14:F18) -> 0
A21: ENROLLMENT International (Headcount)
A22: Intake
A23: Returning Students Year 2
A24: Returning Students Year 3
A25: Returning Students Year 4
A26: Returning Students Year 5
A27: Total Enrollment | B27: =SUM(B22:B26) -> 0 | C27: =SUM(,C22:C26) -> 0 | D27: =SUM(,D22:D26) -> 0 | E27: =SUM(,E22:E26) -> 0 | F27: =SUM(,F22:F26) -> 0
A29: # Credits | B29: 5 | C29: 5 | D29: 5 | E29: 5 | F29: 5
A32: REVENUE
A33: Domestic
A34: Tuition | B34: =(B19*B6*B29) -> 0 | C34: =(C19*C6*C29) -> 0 | D34: =(D19*D6*D29) -> 0 | E34: =(E19*E6*E29) -> 0 | F34: =(F19*F6*F29) -> 0
A35: Ancillary Fees | B35: =B19*'Cost Drivers'!$B$4*B29 -> 0 | C35: =C19*'Cost Drivers'!$B$4*C29 -> 0 | D35: =D19*'Cost Drivers'!$B$4*D29 -> 0 | E35: =E19*'Cost Drivers'!$B$4*E29 -> 0 | F35: =F19*'Cost Drivers'!$B$4*F29 -> 0
A36: Total Domestic tuition | B36: =SUM(B34:B35) -> 0 | C36: =SUM(C34:C35) -> 0 | D36: =SUM(D34:D35) -> 0 | E36: =SUM(E34:E35) -> 0 | F36: =SUM(F34:F35) -> 0
A38: International
A39: Tuition | B39: =(B7*B22*B29) -> 0 | C39: =((C7*C22*C29)+(B7*C23*C29)) -> 0 | D39: =((D7*D22*D29)+(D23*D29*C7)+(D24*D29*B7)) -> 0 | E39: =((E22*E7*E29)+(E23*E29*D7)+(E24*E29*C7)+(E25*E29*B7)) -> 0 | F39: =((F22*F29*F7)+(F23*F29*E7)+(F24*D7)+(F25*F29+C7)+(F26*F29*B7)) -> 0
A40: Ancillary Fees | B40: =B27*'Cost Drivers'!$B$5*B29 -> 0 | C40: =C27*'Cost Drivers'!$B$5*C29 -> 0 | D40: =D27*'Cost Drivers'!$B$5*D29 -> 0 | E40: =E27*'Cost Drivers'!$B$5*E29 -> 0 | F40: =F27*'Cost Drivers'!$B$5*F29 -> 0
A41: Total International tuition | B41: =SUM(B39:B40) -> 0 | C41: =SUM(C39:C40) -> 0 | D41: =SUM(D39:D40) -> 0 | E41: =SUM(E39:E40) -> 0 | F41: =SUM(F39:F40) -> 0
A43: Co-op Revenue | B43: =B19*$B$10*'Cost Drivers'!$B$11 -> 0 | C43: =C19*$B$10*'Cost Drivers'!$B$11 -> 0 | D43: =D19*$B$10*'Cost Drivers'!$B$11 -> 0 | E43: =E19*$B$10*'Cost Drivers'!$B$11 -> 0 | F43: =F19*$B$10*'Cost Drivers'!$B$11 -> 0
A45: Revenue
A46: Tuition Revenue | B46: =B34+B39 -> 0 | C46: =C34+C39 -> 0 | D46: =D34+D39 -> 0 | E46: =E34+E39 -> 0 | F46: =F34+F39 -> 0
A47: Ancillary Revenue | B47: =B35+B40 -> 0 | C47: =C35+C40 -> 0 | D47: =D35+D40 -> 0 | E47: =E35+E40 -> 0 | F47: =F35+F40 -> 0
A48: Co-op Revenue | B48: =B43 -> 0 | C48: =C43 -> 0 | D48: =D43 -> 0 | E48: =E43 -> 0 | F48: =F43 -> 0
...

Sheet Cost Drivers
A1: Base Year | B1: 2025-26
A3: Ancillary Fee (estimate)
A4: Domestic - Per credit fee | B4: 110
A5: International - Per credit fee | B5: =B4 -> 110
A7: Co-Op fees | B7: 2025-26
A8: Admin Fee | B8: 891.16
A9: Pre-Employment training (0N90) | B9: 863.31
A10: Job Search Fee | B10: 300
B11: =SUM(B8:B10) -> 2054.47
A13: Benefit rates - based on year | B13: 2025-26
A14: BUFA | B14: 0.209
A15: Admin/Professional | B15: 0.2697
A16: OSSTF | B16: 0.3134
A17: CUPE 4207 unit 1 | B17: 0.114015
A18: Non-Union Instructor | B18: 0.14
A19: BUFA Overload | B19: 0
A21: Part-Time Teaching rates (use graduate complete rates for budget) - base year 2025-26 | B21: Year 1 | C21: Year 2 | D21: Year 3 | E21: Year 4 | F21: Year 5
A22: BUFA overload | B22: 15762 | C22: 15762 | D22: 15762 | E22: 15762 | F22: 15762 | G22: per credit
A23: Non-Union Instructor | B23: 14186.24 | C23: 14186.24 | D23: 14186.24 | E23: 14186.24 | F23: 14186.24 | G23: per credit
A24: CUPE 4207 Unit 1 Instructor | B24: 15539.86 | C24: 15539.86 | D24: 15539.86 | E24: 15539.86 | F24: 15539.86 | G24: per credit
A25: CUPE 4207 Unit 1 TA | B25: 4600.79 | C25: 4600.79 | D25: 4600.79 | E25: 4600.79 | F25: 4600.79 | G25: per credit/120 hours
A26: CUPE 4207 Unit 1 Marker/Grader | B26: 37.68 | C26: 37.68 | D26: 37.68 | E26: 37.68 | F26: 37.68 | G26: per hour
A27: Stipend Transfer | B27: =B22 -> 15762 | C27: =C22 -> 15762 | D27: =D22 -> 15762 | E27: =E22 -> 15762 | F27: =F22 -> 15762 | G27: per credit
A29: Arts or Science
A30: Business or Computer Science
B31: Year 1 | C31: Year 2 | D31: Year 3 | E31: Year 4 | F31: Year 5
A32: PER amount | B32: 2500 | C32: 2500 | D32: 2500 | E32: 2500 | F32: 2500
A34: Scholarship (based on on 2025-26 Budget) | B34: =B38 -> 736.67241 | C34: =B34 -> 736.67241 | D34: =C34 -> 736.67241 | E34: =D34 -> 736.67241 | F34: =E34 -> 736.67241
A36: Total Scholarship budget (CC9000, 2024-25) | B36: =11861800-1476929 -> 10384871
A37: Estimated UG enrolment (BTE) | B37: 14097
A38: Average per student | B38: =B36/B37 -> 736.67241
A41: Yes
A42: No
