Workbook

Sheet Proposed Budget - Summary
A1: Summary Proposed Budget for Major Modification Program & Resource Template - Graduate and PhD
A2: Instructions: Fill in details on the Masters or PhD tabs
A3: Please note only incremental/new revenue and expenses in this file
A5: Faculty: | B5: ='Proposed Budget - Masters'!B5 -> 0 | G5: Comments (if needed)
A6: New Program Name : | B6: ='Proposed Budget - Masters'!B6 -> 0
A7: Type of program (select from list): | B7: ='Proposed Budget - Masters'!B7 -> Professional program | D7: (for tuition rate)
A8: Input per term/credit domestic tuition rate | C8: See details on tab | H8: Rationale for tuition rate
A9: Input per term/credit international tuition rate | C9: See details on tab | H9: Rationale for tuition rate
B11: Year 1 Forecast | C11: Year 2 Forecast | D11: Year 3 Forecast | E11: Year 4 Forecast | F11: Year 5 Forecast
A12: Insert Academic Year ==> | B12: ='Proposed Budget - Masters'!B14 -> 0 | C12: ='Proposed Budget - Masters'!C14 -> 0 | D12: ='Proposed Budget - Masters'!D14 -> 0 | E12: ='Proposed Budget - Masters'!E14 -> 0 | F12: ='Proposed Budget - Masters'!F14 -> 0
A13: ENROLLMENT (Headcount)
A14: Intake | B14: ='Proposed Budget - Masters'!B16+'Proposed Budget - PhD'!B16 -> 0 | C14: ='Proposed Budget - Masters'!C16+'Proposed Budget - PhD'!C16 -> 0 | D14: ='Proposed Budget - Masters'!D16+'Proposed Budget - PhD'!D16 -> 0 | E14: ='Proposed Budget - Masters'!E16+'Proposed Budget - PhD'!E16 -> 0 | F14: ='Proposed Budget - Masters'!F16+'Proposed Budget - PhD'!F16 -> 0
A15: Returning Students Year 2 | B15: ='Proposed Budget - Masters'!B17+'Proposed Budget - PhD'!B17 -> 0 | C15: ='Proposed Budget - Masters'!C17+'Proposed Budget - PhD'!C17 -> 0 | D15: ='Proposed Budget - Masters'!D17+'Proposed Budget - PhD'!D17 -> 0 | E15: ='Proposed Budget - Masters'!E17+'Proposed Budget - PhD'!E17 -> 0 | F15: ='Proposed Budget - Masters'!F17+'Proposed Budget - PhD'!F17 -> 0
A16: Returning Students Year 3 | B16: ='Proposed Budget - Masters'!B18+'Proposed Budget - PhD'!B18 -> 0 | C16: ='Proposed Budget - Masters'!C18+'Proposed Budget - PhD'!C18 -> 0 | D16: ='Proposed Budget - Masters'!D18+'Proposed Budget - PhD'!D18 -> 0 | E16: ='Proposed Budget - Masters'!E18+'Proposed Budget - PhD'!E18 -> 0 | F16: ='Proposed Budget - Masters'!F18+'Proposed Budget - PhD'!F18 -> 0
A17: Returning Students Year 4 | B17: ='Proposed Budget - Masters'!B19+'Proposed Budget - PhD'!B19 -> 0 | C17: ='Proposed Budget - Masters'!C19+'Proposed Budget - PhD'!C19 -> 0 | D17: ='Proposed Budget - Masters'!D19+'Proposed Budget - PhD'!D19 -> 0 | E17: ='Proposed Budget - Masters'!E19+'Proposed Budget - PhD'!E19 -> 0 | F17: ='Proposed Budget - Masters'!F19+'Proposed Budget - PhD'!F19 -> 0
A18: Returning Students Year 5 | B18: ='Proposed Budget - Masters'!B20+'Proposed Budget - PhD'!B20 -> 0 | C18: ='Proposed Budget - Masters'!C20+'Proposed Budget - PhD'!C20 -> 0 | D18: ='Proposed Budget - Masters'!D20+'Proposed Budget - PhD'!D20 -> 0 | E18: ='Proposed Budget - Masters'!E20+'Proposed Budget - PhD'!E20 -> 0 | F18: ='Proposed Budget - Masters'!F20+'Proposed Budget - PhD'!F20 -> 0
A19: Total Enrollment | B19: =SUM(B14:B18) -> 0 | C19: =SUM(,C14:C18) -> 0 | D19: =SUM(,D14:D18) -> 0 | E19: =SUM(,E14:E18) -> 0 | F19: =SUM(,F14:F18) -> 0
A21: # of terms/credit taken per student
A22: Intake | B22: ='Proposed Budget - Masters'!B32+'Proposed Budget - PhD'!B32 -> 0 | C22: ='Proposed Budget - Masters'!C32+'Proposed Budget - PhD'!C32 -> 0 | D22: ='Proposed Budget - Masters'!D32+'Proposed Budget - PhD'!D32 -> 0 | E22: ='Proposed Budget - Masters'!E32+'Proposed Budget - PhD'!E32 -> 0 | F22: ='Proposed Budget - Masters'!F32+'Proposed Budget - PhD'!F32 -> 0
A23: Returning Students Year 2 | B23: ='Proposed Budget - Masters'!B33+'Proposed Budget - PhD'!B33 -> 0 | C23: ='Proposed Budget - Masters'!C33+'Proposed Budget - PhD'!C33 -> 0 | D23: ='Proposed Budget - Masters'!D33+'Proposed Budget - PhD'!D33 -> 0 | E23: ='Proposed Budget - Masters'!E33+'Proposed Budget - PhD'!E33 -> 0 | F23: ='Proposed Budget - Masters'!F33+'Proposed Budget - PhD'!F33 -> 0
A24: Returning Students Year 3 | B24: ='Proposed Budget - Masters'!B34+'Proposed Budget - PhD'!B34 -> 0 | C24: ='Proposed Budget - Masters'!C34+'Proposed Budget - PhD'!C34 -> 0 | D24: ='Proposed Budget - Masters'!D34+'Proposed Budget - PhD'!D34 -> 0 | E24: ='Proposed Budget - Masters'!E34+'Proposed Budget - PhD'!E34 -> 0 | F24: ='Proposed Budget - Masters'!F34+'Proposed Budget - PhD'!F34 -> 0
A25: Returning Students Year 4 | B25: ='Proposed Budget - Masters'!B35+'Proposed Budget - PhD'!B35 -> 0 | C25: ='Proposed Budget - Masters'!C35+'Proposed Budget - PhD'!C35 -> 0 | D25: ='Proposed Budget - Masters'!D35+'Proposed Budget - PhD'!D35 -> 0 | E25: ='Proposed Budget - Masters'!E35+'Proposed Budget - PhD'!E35 -> 0 | F25: ='Proposed Budget - Masters'!F35+'Proposed Budget - PhD'!F35 -> 0
A26: Returning Students Year 5 | B26: ='Proposed Budget - Masters'!B36+'Proposed Budget - PhD'!B36 -> 0 | C26: ='Proposed Budget - Masters'!C36+'Proposed Budget - PhD'!C36 -> 0 | D26: ='Proposed Budget - Masters'!D36+'Proposed Budget - PhD'!D36 -> 0 | E26: ='Proposed Budget - Masters'!E36+'Proposed Budget - PhD'!E36 -> 0 | F26: ='Proposed Budget - Masters'!F36+'Proposed Budget - PhD'!F36 -> 0
A29: REVENUE
A30: Domestic
A31: Tuition | B31: ='Proposed Budget - Masters'!B41+'Proposed Budget - PhD'!B41 -> 0 | C31: ='Proposed Budget - Masters'!C41+'Proposed Budget - PhD'!C41 -> 0 | D31: ='Proposed Budget - Masters'!D41+'Proposed Budget - PhD'!D41 -> 0 | E31: ='Proposed Budget - Masters'!E41+'Proposed Budget - PhD'!E41 -> 0 | F31: ='Proposed Budget - Masters'!F41+'Proposed Budget - PhD'!F41 -> 0
A32: Ancillary Fees | B32: ='Proposed Budget - Masters'!B42+'Proposed Budget - PhD'!B42 -> 0 | C32: ='Proposed Budget - Masters'!C42+'Proposed Budget - PhD'!C42 -> 0 | D32: ='Proposed Budget - Masters'!D42+'Proposed Budget - PhD'!D42 -> 0 | E32: ='Proposed Budget - Masters'!E42+'Proposed Budget - PhD'!E42 -> 0 | F32: ='Proposed Budget - Masters'!F42+'Proposed Budget - PhD'!F42 -> 0
A33: Total Domestic tuition | B33: =SUM(B31:B32) -> 0 | C33: =SUM(C31:C32) -> 0 | D33: =SUM(D31:D32) -> 0 | E33: =SUM(E31:E32) -> 0 | F33: =SUM(F31:F32) -> 0
A35: International
A36: Tuition | B36: ='Proposed Budget - Masters'!B46+'Proposed Budget - PhD'!B46 -> 0 | C36: ='Proposed Budget - Masters'!C46+'Proposed Budget - PhD'!C46 -> 0 | D36: ='Proposed Budget - Masters'!D46+'Proposed Budget - PhD'!D46 -> 0 | E36: ='Proposed Budget - Masters'!E46+'Proposed Budget - PhD'!E46 -> 0 | F36: ='Proposed Budget - Masters'!F46+'Proposed Budget - PhD'!F46 -> 0
A37: Ancillary Fees | B37: ='Proposed Budget - Masters'!B47+'Proposed Budget - PhD'!B47 -> 0 | C37: ='Proposed Budget - Masters'!C47+'Proposed Budget - PhD'!C47 -> 0 | D37: ='Proposed Budget - Masters'!D47+'Proposed Budget - PhD'!D47 -> 0 | E37: ='Proposed Budget - Masters'!E47+'Proposed Budget - PhD'!E47 -> 0 | F37: ='Proposed Budget - Masters'!F47+'Proposed Budget - PhD'!F47 -> 0
A38: Total International tuition | B38: =SUM(B36:B37) -> 0 | C38: =SUM(C36:C37) -> 0 | D38: =SUM(D36:D37) -> 0 | E38: =SUM(E36:E37) -> 0 | F38: =SUM(F36:F37) -> 0
A40: Revenue
A41: Tuition Revenue | B41: =B31+B36 -> 0 | C41: =C31+C36 -> 0 | D41: =D31+D36 -> 0 | E41: =E31+E36 -> 0 | F41: =F31+F36 -> 0
A42: Ancillary Revenue | B42: =B32+B37 -> 0 | C42: =C32+C37 -> 0 | D42: =D32+D37 -> 0 | E42: =E32+E37 -> 0 | F42: =F32+F37 -> 0
A43: Co-op Revenue | B43: ='Proposed Budget - Masters'!B55+'Proposed Budget - PhD'!B55 -> 0 | C43: ='Proposed Budget - Masters'!C55+'Proposed Budget - PhD'!C55 -> 0 | D43: ='Proposed Budget - Masters'!D55+'Proposed Budget - PhD'!D55 -> 0 | E43: ='Proposed Budget - Masters'!E55+'Proposed Budget - PhD'!E55 -> 0 | F43: ='Proposed Budget - Masters'!F55+'Proposed Budget - PhD'!F55 -> 0
A44: Special Purpose Funding (if applicable) | B44: ='Proposed Budget - Masters'!B56+'Proposed Budget - PhD'!B56 -> 0 | C44: ='Proposed Budget - Masters'!C56+'Proposed Budget - PhD'!C56 -> 0 | D44: ='Proposed Budget - Masters'!D56+'Proposed Budget - PhD'!D56 -> 0 | E44: ='Proposed Budget - Masters'!E56+'Proposed Budget - PhD'!E56 -> 0 | F44: ='Proposed Budget - Masters'!F56+'Proposed Budget - PhD'!F56 -> 0
A45: TOTAL REVENUE | B45: =SUM(B41:B44) -> 0 | C45: =SUM(C41:C44) -> 0 | D45: =SUM(D41:D44) -> 0 | E45: =SUM(E41:E44) -> 0 | F45: =SUM(F41:F44) -> 0
A47: PERSONNEL
A48: New Faculty Positions
...

Sheet Proposed Budget - Masters
A1: Proposed Budget for Major Modifications Program & Resource Template - Graduate Masters
A2: Instructions: Inputs to be made in the blue highlighted cells
A3: Please noted only incremental/new revenue and expenses in this file
A5: Faculty: | G5: Comments (if needed)
A6: Major Modification Program:
A7: Type of program (select from list): | B7: Professional program | D7: (for tuition rate)
A8: Input per term/credit domestic tuition rate | H8: Rationale for tuition rate
A9: Input per term/credit international tuition rate | C9: =B9*1.05 -> 0 | D9: =C9*1.05 -> 0 | E9: =D9*1.05 -> 0 | F9: =E9*1.05 -> 0 | G9: If a professional program a 5% tuition increase will be assumed | H9: Rationale for tuition rate
A10: Co-op Program:
A11: Co-op, if yes % of students in program:
B13: Year 1 Forecast | C13: Year 2 Forecast | D13: Year 3 Forecast | E13: Year 4 Forecast | F13: Year 5 Forecast
A14: Insert Academic Year ==>
A15: ENROLLMENT DOMESTIC (Headcount)
A16: Intake
A17: Returning Students Year 2
A18: Returning Students Year 3
A19: Returning Students Year 4
A20: Returning Students Year 5
A21: Total Enrollment | B21: =SUM(B16:B20) -> 0 | C21: =SUM(,C16:C20) -> 0 | D21: =SUM(,D16:D20) -> 0 | E21: =SUM(,E16:E20) -> 0 | F21: =SUM(,F16:F20) -> 0
A23: ENROLLMENT INTERNATIONAL (Headcount)
A24: Intake
A25: Returning Students Year 2
A26: Returning Students Year 3
A27: Returning Students Year 4
A28: Returning Students Year 5
A29: Total Enrollment | B29: =SUM(B24:B28) -> 0 | C29: =SUM(,C24:C28) -> 0 | D29: =SUM(,D24:D28) -> 0 | E29: =SUM(,E24:E28) -> 0 | F29: =SUM(,F24:F28) -> 0
A31: # of terms/credit taken per student
A32: Intake
A33: Returning Students Year 2
A34: Returning Students Year 3
A35: Returning Students Year 4
A36: Returning Students Year 5
A39: REVENUE
A40: Domestic
A41: Tuition | B41: =(B32*B21*$B$8) -> 0 | C41: =((B8*C16*C32)+(B8*C17*C33)) -> 0 | D41: =((B8*D16*D32)+(B8*D17*D33)+(B8*D18*D34)) -> 0 | E41: =((E16*B8*E32)+(B8*E17*E33)+(B8*E18*E34)) -> 0 | F41: =((B8*F16*F32)+(B8*F17*F33)+(B8*F18*F34)) -> 0
A42: Ancillary Fees | B42: =B21*'Cost Drivers'!$B$4*B32 -> 0 | C42: =(C16*'Cost Drivers'!$B$4*C32)+(C17*'Cost Drivers'!$B$4*C33) -> 0 | D42: =(D16*'Cost Drivers'!$B$4*D32)+(D17*'Cost Drivers'!$B$4*D33)+(D18*'Cost Drivers'!$B$4*D34) -> 0 | E42: =(E16*'Cost Drivers'!$B$4*E32)+(E17*'Cost Drivers'!$B$4*E33)+(E18*'Cost Drivers'!$B$4*E34)+(E19*'Cost Drivers'!$B$4*E35) -> 0 | F42: =(F16*'Cost Drivers'!$B$4*F32)+(F17*'Cost Drivers'!$B$4*F33)+(F18*'Cost Drivers'!$B$4*F34)+(F19*'Cost Drivers'!$B$4*F35)+(F20*'Cost Drivers'!$B$4*F36) -> 0
A43: Total Domestic tuition | B43: =SUM(B41:B42) -> 0 | C43: =SUM(C41:C42) -> 0 | D43: =SUM(D41:D42) -> 0 | E43: =SUM(E41:E42) -> 0 | F43: =SUM(F41:F42) -> 0
A45: International
A46: Tuition | B46: =IF($B$7="Research based",(B24*B32*$B$9),IF($B$7="Professional program",(B24*B32*$B$9))) -> 0 | C46: =IF($B$7="Research based",(C24*C32*$B$9),IF($B$7="Professional program",(C24*C32*($C$9))))+IF($B$7="Research based",(C25*C33*$B$9),IF($B$7="Professional program",(C25*C33*($C$9)))) -> 0 | D46: =IF($B$7="Research based",(D24*D32*$B$9),IF($B$7="Professional program",(D24*D32*$D$9)))+IF($B$7="Research based",(D25*D33*$B$9),IF($B$7="Professional program",(D25*D33*($D$9))))++IF($B$7="Research based",(D26*D34*$B$9),IF($B$7="Professional program",(D26*D34*($D$9)))) -> 0 | E46: =IF($B$7="Research based",(E24*E32*$B$9),IF($B$7="Professional program",(E24*E32*$E$9)))+IF($B$7="Research based",(E25*E33*$B$9),IF($B$7="Professional program",(E25*E33*($E$9))))+IF($B$7="Research based",(E26*E34*$B$9),IF($B$7="Professional program",(E26*E34*($E$9))))+IF($B$7="Research based",(E27*E35*$B$9),IF($B$7="Professional program",(E27*E35*($E$9)))) -> 0 | F46: =IF($B$7="Research based",(F24*F32*$B$9),IF($B$7="Professional program",(F24*F32*$F$9)))+IF($B$7="Research based",(F25*F33*$B$9),IF($B$7="Professional program",(F25*F33*($F$9))))+IF($B$7="Research based",(F26*F34*$B$9),IF($B$7="Professional program",(F26*F34*($F$9))))+IF($B$7="Research based",(F27*F35*$B$9),IF($B$7="Professional program",(F27*F35*($F$9))))+IF($B$7="Research based",(F28*F36*$B$9),IF($B$7="Professional program",(F28*F36*($F$9)))) -> 0
A47: Ancillary Fees | B47: =(B24*'Cost Drivers'!$B$5*B32) -> 0 | C47: =(C24*'Cost Drivers'!$B$5*C32)+(C25*'Cost Drivers'!$B$5*C33) -> 0 | D47: =(D24*'Cost Drivers'!$B$5*D32)+(D25*'Cost Drivers'!$B$5*D33)+(D26*'Cost Drivers'!$B$5*D34) -> 0 | E47: =(E24*'Cost Drivers'!$B$5*E32)+(E25*'Cost Drivers'!$B$5*E33)+(E26*'Cost Drivers'!$B$5*E34)+(E27*'Cost Drivers'!$B$5*E35) -> 0 | F47: =(F24*'Cost Drivers'!$B$5*F32)+(F25*'Cost Drivers'!$B$5*F33)+(F26*'Cost Drivers'!$B$5*F34)+(F27*'Cost Drivers'!$B$5*F35)+(F28*'Cost Drivers'!$B$5*F36) -> 0
...

Sheet Proposed Budget - PhD
A1: Proposed Budget for Major Modifications Program & Resource Template - Graduate PhD
A2: Instructions: Inputs to be made in the blue highlighted cells
A3: Please noted only incremental/new revenue and expenses in this file
A5: Faculty: | G5: Comments (if needed)
A6: Major Modification Program:
A7: Type of program (select from list): | B7: Research based | D7: (for tuition rate)
A8: Input per term/credit domestic tuition rate | H8: Rationale for tuition rate
A9: Input per term/credit international tuition rate | C9: If a professional program a 5% tuition increase will be assumed | H9: Rationale for tuition rate
A10: Co-op Program:
A11: Co-op, if yes % of students in program:
B13: Year 1 Forecast | C13: Year 2 Forecast | D13: Year 3 Forecast | E13: Year 4 Forecast | F13: Year 5 Forecast
A14: Insert Academic Year ==>
A15: ENROLLMENT DOMESTIC (Headcount)
A16: Intake
A17: Returning Students Year 2
A18: Returning Students Year 3
A19: Returning Students Year 4
A20: Returning Students Year 5
A21: Total Enrollment | B21: =SUM(B16:B20) -> 0 | C21: =SUM(,C16:C20) -> 0 | D21: =SUM(,D16:D20) -> 0 | E21: =SUM(,E16:E20) -> 0 | F21: =SUM(,F16:F20) -> 0
A23: ENROLLMENT INTERNATIONAL (Headcount)
A24: Intake
A25: Returning Students Year 2
A26: Returning Students Year 3
A27: Returning Students Year 4
A28: Returning Students Year 5
A29: Total Enrollment | B29: =SUM(B24:B28) -> 0 | C29: =SUM(,C24:C28) -> 0 | D29: =SUM(,D24:D28) -> 0 | E29: =SUM(,E24:E28) -> 0 | F29: =SUM(,F24:F28) -> 0
A31: # of terms/credit taken per student
A32: Intake
A33: Returning Students Year 2
A34: Returning Students Year 3
A35: Returning Students Year 4
A36: Returning Students Year 5
A39: REVENUE
A40: Domestic
A41: Tuition | B41: =(B32*B21*$B$8) -> 0 | C41: =((B8*C16*C32)+(B8*C17*C33)) -> 0 | D41: =((B8*D16*D32)+(B8*D17*D33)+(B8*D18*D34)) -> 0 | E41: =((E16*B8*E32)+(B8*E17*E33)+(B8*E18*E34)) -> 0 | F41: =((B8*F16*F32)+(B8*F17*F33)+(B8*F18*F34)) -> 0
A42: Ancillary Fees | B42: =B21*'Cost Drivers'!$B$4*B32 -> 0 | C42: =(C16*'Cost Drivers'!$B$4*C32)+(C17*'Cost Drivers'!$B$4*C33) -> 0 | D42: =(D16*'Cost Drivers'!$B$4*D32)+(D17*'Cost Drivers'!$B$4*D33)+(D18*'Cost Drivers'!$B$4*D34) -> 0 | E42: =(E16*'Cost Drivers'!$B$4*E32)+(E17*'Cost Drivers'!$B$4*E33)+(E18*'Cost Drivers'!$B$4*E34)+(E19*'Cost Drivers'!$B$4*E35) -> 0 | F42: =(F16*'Cost Drivers'!$B$4*F32)+(F17*'Cost Drivers'!$B$4*F33)+(F18*'Cost Drivers'!$B$4*F34)+(F19*'Cost Drivers'!$B$4*F35)+(F20*'Cost Drivers'!$B$4*F36) -> 0
A43: Total Domestic tuition | B43: =SUM(B41:B42) -> 0 | C43: =SUM(C41:C42) -> 0 | D43: =SUM(D41:D42) -> 0 | E43: =SUM(E41:E42) -> 0 | F43: =SUM(F41:F42) -> 0
A45: International
A46: Tuition | B46: =IF($B$7="Research based",(B24*B32*$B$9),IF($B$7="Professional program",(B24*B32*$B$9))) -> 0 | C46: =IF($B$7="Research based",(C24*C32*$B$9),IF($B$7="Professional program",(C24*C32*($B$9*1.05))))+IF($B$7="Research based",(C25*C33*$B$9),IF($B$7="Professional program",(C25*C33*($B$9*1.05)))) -> 0 | D46: =IF($B$7="Research based",(D24*D32*$B$9),IF($B$7="Professional program",(D24*D32*$B$9)))+IF($B$7="Research based",(D25*D33*$B$9),IF($B$7="Professional program",(D25*D33*($B$9*1.05))))++IF($B$7="Research based",(D26*D34*$B$9),IF($B$7="Professional program",(D26*D34*($B$9*1.05)))) -> 0 | E46: =IF($B$7="Research based",(E24*E32*$B$9),IF($B$7="Professional program",(E24*E32*$B$9)))+IF($B$7="Research based",(E25*E33*$B$9),IF($B$7="Professional program",(E25*E33*($B$9*1.05))))+IF($B$7="Research based",(E26*E34*$B$9),IF($B$7="Professional program",(E26*E34*($B$9*1.05))))+IF($B$7="Research based",(E27*E35*$B$9),IF($B$7="Professional program",(E27*E35*($B$9*1.05)))) -> 0 | F46: =IF($B$7="Research based",(F24*F32*$B$9),IF($B$7="Professional program",(F24*F32*$B$9)))+IF($B$7="Research based",(F25*F33*$B$9),IF($B$7="Professional program",(F25*F33*($B$9*1.05))))+IF($B$7="Research based",(F26*F34*$B$9),IF($B$7="Professional program",(F26*F34*($B$9*1.05))))+IF($B$7="Research based",(F27*F35*$B$9),IF($B$7="Professional program",(F27*F35*($B$9*1.05))))+IF($B$7="Research based",(F28*F36*$B$9),IF($B$7="Professional program",(F28*F36*($B$9*1.05)))) -> 0
A47: Ancillary Fees | B47: =(B24*'Cost Drivers'!$B$5*B32) -> 0 | C47: =(C24*'Cost Drivers'!$B$5*C32)+(C25*'Cost Drivers'!$B$5*C33) -> 0 | D47: =(D24*'Cost Drivers'!$B$5*D32)+(D25*'Cost Drivers'!$B$5*D33)+(D26*'Cost Drivers'!$B$5*D34) -> 0 | E47: =(E24*'Cost Drivers'!$B$5*E32)+(E25*'Cost Drivers'!$B$5*E33)+(E26*'Cost Drivers'!$B$5*E34)+(E27*'Cost Drivers'!$B$5*E35) -> 0 | F47: =(F24*'Cost Drivers'!$B$5*F32)+(F25*'Cost Drivers'!$B$5*F33)+(F26*'Cost Drivers'!$B$5*F34)+(F27*'Cost Drivers'!$B$5*F35)+(F28*'Cost Drivers'!$B$5*F36) -> 0
...

Sheet Cost Drivers
A1: Base Year | B1: 2025-26
A3: Ancillary Fee (estimate)
A4: Domestic - Per term fee | B4: 131.8
A5: International - Per term fee | B5: 131.8
A7: Co-op Fees
A8: Admin Fee | B8: 891.16
A9: Pre-Employment training (0N90) | B9: 863.31
A10: Job Search Fee | B10: 300
A11: Work term fee | B11: =B9 -> 863.31
B12: =SUM(B8:B11) -> 2917.78
A14: Benefit rates - based on year | B14: 2025-26
A15: BUFA | B15: 0.209
A16: Admin/Professional | B16: 0.2697
A17: OSSTF | B17: 0.3134
A18: CUPE 4207 unit 1 | B18: 0.114015
A19: Non-Union Instructor | B19: 0.14
A20: BUFA Overload | B20: 0
A22: Part-Time Teaching rates (use graduate complete rates for budget) - base year 2023-24 | B22: Year 1 | C22: Year 2 | D22: Year 3 | E22: Year 4 | F22: Year 5
A23: BUFA overload | B23: 15762 | C23: 15762 | D23: 15762 | E23: 15762 | F23: 15762 | G23: per credit
A24: Non-Union Instructor | B24: 14186.24 | C24: 14186.24 | D24: 14186.24 | E24: 14186.24 | F24: 14186.24 | G24: per credit
A25: CUPE 4207 Unit 1 Instructor | B25: 15539.86 | C25: 15539.86 | D25: 15539.86 | E25: 15539.86 | F25: 15539.86 | G25: per credit
A26: CUPE 4207 Unit 1 TA | B26: 4600.79 | C26: 4600.79 | D26: 4600.79 | E26: 4600.79 | F26: 4600.79 | G26: per credit/120 hours
A27: CUPE 4207 Unit 1 Marker/Grader | B27: 37.68 | C27: 37.68 | D27: 37.68 | E27: 37.68 | F27: 37.68 | G27: per hour
A28: Stipend Transfer | B28: =B23 -> 15762 | C28: =C23 -> 15762 | D28: =D23 -> 15762 | E28: =E23 -> 15762 | F28: =F23 -> 15762 | G28: per credit
A30: Research based
A31: Professional program
B33: Year 1 | C33: Year 2 | D33: Year 3 | E33: Year 4 | F33: Year 5
A34: PER amount | B34: 2500 | C34: 2500 | D34: 2500 | E34: 2500 | F34: 2500
A36: Scholarship per term amounts
A37: Scholarships - Masters, Domestic ($8,500/yr) | B37: =8500/3 -> 2833.3333 | C37: =8500/3 -> 2833.3333 | D37: =8500/3 -> 2833.3333 | E37: =8500/3 -> 2833.3333 | F37: =8500/3 -> 2833.3333
A38: Scholarships - Masters, International ($15,500/yr) | B38: =15500/3 -> 5166.6667 | C38: =15500/3 -> 5166.6667 | D38: =15500/3 -> 5166.6667 | E38: =15500/3 -> 5166.6667 | F38: =15500/3 -> 5166.6667
A39: Scholarships - PhD, Domestic ($14,000/yr) | B39: 4667 | C39: 4667 | D39: 4667 | E39: 4667 | F39: 4667
A40: Scholarships - PhD, International ($20,500/yr) | B40: =20500/3 -> 6833.3333 | C40: =20500/3 -> 6833.3333 | D40: =20500/3 -> 6833.3333 | E40: =20500/3 -> 6833.3333 | F40: =20500/3 -> 6833.3333
A42: Masters
A43: PhD
A44: Both Master/PhD
A46: Yes
A47: No
